BEGIN:VCALENDAR
VERSION:2.0
PRODID:-//Seniors Enquiry Line - ECPv4.7.4//NONSGML v1.0//EN
CALSCALE:GREGORIAN
METHOD:PUBLISH
X-WR-CALNAME:Seniors Enquiry Line
X-ORIGINAL-URL:https://seniorsenquiryline.com.au
X-WR-CALDESC:Events for Seniors Enquiry Line
BEGIN:VEVENT
DTSTART;TZID=Australia/Brisbane:20190125T140000
DTEND;TZID=Australia/Brisbane:20190227T190000
DTSTAMP:20190227T232727
CREATED:20181219T165133Z
LAST-MODIFIED:20181219T165133Z
UID:12549-1548388800-1551258000@seniorsenquiryline.com.au
SUMMARY:Afrekete Afro-Cuban Dance\, Music & Culture Festival – Coolangatta
DESCRIPTION:25 – 27th January                2:00 PM to 7:00 PM \n  \nCome and experience a piece of Cuba on the Gold Coast in the idyllic surrounds of Kirra Beach at the southern end of the Gold Coast. \n  \nThis will be a weekend of dance\, music workshops and performances in the history of Salsa from Australia and New Zealand’s talented Cuban dance and music artists. \n  \nCome and feel the heartbeat of Cuba and let the rhythm move you. All levels of experience plus all ages and abilities are welcome. \n  \nFor bookings and information\, visit www.afrekete.com/ \n  \nCost: From $25 \n  \nWhere:       Kirra Hill Community & Cultural Centre\, corner of Garrick Street and Powell Crescent\, Coolangatta \nPhone:      0432 509 519 \nEmail:        afrekete@protonmail.com \nWeb:         http://afrekete.com/ \n
URL:https://seniorsenquiryline.com.au/event/afrekete-afro-cuban-dance-music-culture-festival-coolangatta/
CATEGORIES:Gold Coast
END:VEVENT
BEGIN:VEVENT
DTSTART;VALUE=DATE:20190214
DTEND;VALUE=DATE:20190218
DTSTAMP:20190227T232727
CREATED:20190122T123157Z
LAST-MODIFIED:20190122T123157Z
UID:12826-1550066400-1550411999@seniorsenquiryline.com.au
SUMMARY:Chinchilla Melon Festival
DESCRIPTION:14 – 17th  February \n  \nA celebration of all things melon and a tribute to our town’s melon farming reputation\, the Chinchilla Melon Festival has become a renowned Queensland event. Held in February every second year\, the festival encompasses a week of activities with the highlight being the classic Family Fun Day and colourful street parade. If you’ve never skied on watermelons or attempted a melon bungee\, then you need to put the Chinchilla Melon Festival at the top of your to-do list! \n  \nTo learn more about this quirky and iconic festival\, please visit the web site or contact the Chinchilla Visitor Information Centre. Cost: Free. \n  \nVenue:       Heeney Street\, Chinchilla. \nPhone:      07 4660 7291 \nEmail:        chinchillamelonfestival@gmail.com \nWeb:         http://www.melonfest.com.au \n  \n
URL:https://seniorsenquiryline.com.au/event/chinchilla-melon-festival/
CATEGORIES:Toowoomba & South West QLD
END:VEVENT
BEGIN:VEVENT
DTSTART;VALUE=DATE:20190215
DTEND;VALUE=DATE:20190218
DTSTAMP:20190227T232727
CREATED:20190122T130033Z
LAST-MODIFIED:20190122T130033Z
UID:12841-1550152800-1550411999@seniorsenquiryline.com.au
SUMMARY:Agnes Blues\, Roots and Rock Festival – Agnes Water
DESCRIPTION:15 – 17th  February \n  \nAgnes Blues\, Roots and Rock Festival is back! Three days of the best blues\, roots and rock music that they can fit in\, 15 to 17 February 2019! \n  \nThe 2019 Performer Line Up is underway\, stand by for announcements! \nHeadline acts of recent years include the legendary GANGAjang\, Choirboys\, Russell Morris and Kevin Borich! Other awesome artists who rocked the Agnes Blues Fest stage are 19 Twenty\, Eugene Hideaway Bridges\, 8 Ball Aitken\, Bobby Alu and the Palm Royale\, The Twine\, The Floating Bridges\, 4 String Phil\, Angela Fabian Band\, Shag Rock and many more! \n  \nMark your calendar now for the 2019 Agnes Blues\, Roots and Rock Festival! \n  \nYou’ll probably even meet your favourite artist in person at this great event. Some artists are hosting unique and inspiring group workshops\, so put the dates aside now and be ready for ticket sales announcements coming soon! \n  \nIf you ever needed an excuse to make a big blues weekend of it in paradise\, this is it! Tour the region\, surf\, swim\, play and still enjoy some of the best music on the planet. \n  \nCost: Adult $66 – $154. \n  \nVenue:       Captain Cook Drive\,  Agnes Water. \nPhone:      07 4974 7570 \nEmail:        info@agnesbluesandroots.com.au \nWeb:         http://www.agnesbluesandroots.com.au \n
URL:https://seniorsenquiryline.com.au/event/agnes-blues-roots-and-rock-festival-agnes-water/
CATEGORIES:Central QLD & Wide Bay
END:VEVENT
BEGIN:VEVENT
DTSTART;VALUE=DATE:20190216
DTEND;VALUE=DATE:20190217
DTSTAMP:20190227T232727
CREATED:20190122T114828Z
LAST-MODIFIED:20190122T114828Z
UID:12811-1550239200-1550325599@seniorsenquiryline.com.au
SUMMARY:Sunshine Coast Dessert Festival - Palmview
DESCRIPTION:16 February \n  \nThe sweetest event is on its way to the Coast in 2019! So\, if you’re a dessert lover it’s time to prepare your tastebuds. \n  \nJust $10 gets you access to: \nLoads of dessert food trucks \nLive music \nDessert wine tasting \nDemonstrations \nKids activities and entertainment \nYou can also upgrade to an unlimited rides pass for an extra AUD28 each! \n  \nPlus for the adults they’ve got dessert wine tasting and an adults only relax lounge. \n  \nThere will be brownies\, donuts\, ice cream\, waffles served from a double decker bus\, crepes\, lollies and more! Hungry yet? Make sure you get your tickets early – this event will sell out! \nCost: $10 – $38. \n  \nVenue:       Aussie World\, 73 Frizzo Road\, Palmview. \nPhone:      07 5494 5444 \nEmail:        fun@aussieworld.com.au \nWeb:         https://www.aussieworld.com.au/events/sunshine-coast-dessert-festival \n
URL:https://seniorsenquiryline.com.au/event/sunshine-coast-dessert-festival-palmview/
CATEGORIES:Sunshine Coast
END:VEVENT
END:VCALENDAR