BEGIN:VCALENDAR
VERSION:2.0
PRODID:-//Seniors Enquiry Line - ECPv4.7.4//NONSGML v1.0//EN
CALSCALE:GREGORIAN
METHOD:PUBLISH
X-WR-CALNAME:Seniors Enquiry Line
X-ORIGINAL-URL:https://seniorsenquiryline.com.au
X-WR-CALDESC:Events for Seniors Enquiry Line
BEGIN:VEVENT
DTSTART;TZID=Australia/Brisbane:20190125T140000
DTEND;TZID=Australia/Brisbane:20190227T190000
DTSTAMP:20190227T231349
CREATED:20181219T165133Z
LAST-MODIFIED:20181219T165133Z
UID:12549-1548388800-1551258000@seniorsenquiryline.com.au
SUMMARY:Afrekete Afro-Cuban Dance\, Music & Culture Festival – Coolangatta
DESCRIPTION:25 – 27th January                2:00 PM to 7:00 PM \n  \nCome and experience a piece of Cuba on the Gold Coast in the idyllic surrounds of Kirra Beach at the southern end of the Gold Coast. \n  \nThis will be a weekend of dance\, music workshops and performances in the history of Salsa from Australia and New Zealand’s talented Cuban dance and music artists. \n  \nCome and feel the heartbeat of Cuba and let the rhythm move you. All levels of experience plus all ages and abilities are welcome. \n  \nFor bookings and information\, visit www.afrekete.com/ \n  \nCost: From $25 \n  \nWhere:       Kirra Hill Community & Cultural Centre\, corner of Garrick Street and Powell Crescent\, Coolangatta \nPhone:      0432 509 519 \nEmail:        afrekete@protonmail.com \nWeb:         http://afrekete.com/ \n
URL:https://seniorsenquiryline.com.au/event/afrekete-afro-cuban-dance-music-culture-festival-coolangatta/
CATEGORIES:Gold Coast
END:VEVENT
BEGIN:VEVENT
DTSTART;TZID=Australia/Brisbane:20190206T133000
DTEND;TZID=Australia/Brisbane:20190206T163000
DTSTAMP:20190227T231349
CREATED:20190122T130417Z
LAST-MODIFIED:20190122T130417Z
UID:12850-1549423800-1549434600@seniorsenquiryline.com.au
SUMMARY:Senior Citizens Sing-Along – Cairns
DESCRIPTION:6 Feb        1:30pm – 4:30pm \n  \nLocal musicians\, singers and singing groups attend regularly. Afternoon tea is served. Wednesday Afternoon – SING-A-LONG – is well supported by members and visitors alike. Musical entertainment for Senior Citizens. All your favourite old songs.  Live band. \n  \nWords are on the screen for easy reading. Many residents of the local Aged Care Homes and Facilities visit weekly. Come along and join in the singing. \n  \n$4.00. Includes afternoon tea. \n  \nVenue:       Senior Citizens Hall\, 271 Gatton Street\, Cairns. \nPhone:      Maggie: 0427132306 \n
URL:https://seniorsenquiryline.com.au/event/senior-citizens-sing-along-cairns/
CATEGORIES:North QLD
END:VEVENT
BEGIN:VEVENT
DTSTART;TZID=Australia/Brisbane:20190206T143000
DTEND;TZID=Australia/Brisbane:20190206T153000
DTSTAMP:20190227T231349
CREATED:20190122T123455Z
LAST-MODIFIED:20190122T123455Z
UID:12829-1549427400-1549431000@seniorsenquiryline.com.au
SUMMARY:Curator Conversation - East Toowoomba
DESCRIPTION:6 February             2:30pm \n  \nPresented on the first Wednesday of each month at 2.30pm\, Curator Conversation is a series of entertaining talks hosted by Queensland Museum Curator Jeff Powell. \n  \nTheme: Toowoomba Regional Council Mayor Paul Antonio and Principal Economic Development Officer Shamus Garmany will present: Bold Ambitions 2038: Toowoomba Region Economic Development Strategy. \n  \nHear from Toowoomba Regional Council Mayor Paul Antonio and Principal Economic Development Officer Shamus Garmany as they speak about Toowoomba’s economic development into the future. \n  \nThe Toowoomba Region is on an upward spiral of economic development with major investments in the Toowoomba Central Business District\, Toowoomba Wellcamp Airport\, the Toowoomba Second Range Crossing and the Brisbane to Melbourne Inland Rail Project. The Toowoomba Region is expected to have a population of around 210\,000 by 2031 and is expected to grow by an additional 10\,000 jobs by 2041. \n  \nBookings not required – just turn up. Free Entry for residents of the Toowoomba Regional Council area. \n  \nVenue:       Cobb+Co Museum\, 27 Lindsay Street\, East Toowoomba. \nPhone:      07 4659 4900 \nEmail:        inquiries@cobbandco.qm.qld.gov.au \nWeb:         http://www.cobbandco.qm.qld.gov.au/Events+and+Exhibitions/Events/2019/02/Curator+Conversation#.XBhTHWgzaU \n  \n
URL:https://seniorsenquiryline.com.au/event/curator-conversation-east-toowoomba/
CATEGORIES:Toowoomba & South West QLD
END:VEVENT
END:VCALENDAR