BEGIN:VCALENDAR
VERSION:2.0
PRODID:-//Seniors Enquiry Line - ECPv4.7.4//NONSGML v1.0//EN
CALSCALE:GREGORIAN
METHOD:PUBLISH
X-WR-CALNAME:Seniors Enquiry Line
X-ORIGINAL-URL:https://seniorsenquiryline.com.au
X-WR-CALDESC:Events for Seniors Enquiry Line
BEGIN:VEVENT
DTSTART;TZID=Australia/Brisbane:20190125T140000
DTEND;TZID=Australia/Brisbane:20190227T190000
DTSTAMP:20190227T230849
CREATED:20181219T165133Z
LAST-MODIFIED:20181219T165133Z
UID:12549-1548388800-1551258000@seniorsenquiryline.com.au
SUMMARY:Afrekete Afro-Cuban Dance\, Music & Culture Festival – Coolangatta
DESCRIPTION:25 – 27th January                2:00 PM to 7:00 PM \n  \nCome and experience a piece of Cuba on the Gold Coast in the idyllic surrounds of Kirra Beach at the southern end of the Gold Coast. \n  \nThis will be a weekend of dance\, music workshops and performances in the history of Salsa from Australia and New Zealand’s talented Cuban dance and music artists. \n  \nCome and feel the heartbeat of Cuba and let the rhythm move you. All levels of experience plus all ages and abilities are welcome. \n  \nFor bookings and information\, visit www.afrekete.com/ \n  \nCost: From $25 \n  \nWhere:       Kirra Hill Community & Cultural Centre\, corner of Garrick Street and Powell Crescent\, Coolangatta \nPhone:      0432 509 519 \nEmail:        afrekete@protonmail.com \nWeb:         http://afrekete.com/ \n
URL:https://seniorsenquiryline.com.au/event/afrekete-afro-cuban-dance-music-culture-festival-coolangatta/
CATEGORIES:Gold Coast
END:VEVENT
BEGIN:VEVENT
DTSTART;VALUE=DATE:20190202
DTEND;VALUE=DATE:20190204
DTSTAMP:20190227T230849
CREATED:20190122T114652Z
LAST-MODIFIED:20190122T114652Z
UID:12808-1549029600-1549202399@seniorsenquiryline.com.au
SUMMARY:Noosa Summer Swim Festival
DESCRIPTION:2 – 3rd  February \n  \nThe Noosa Summer Swim is a bucket list event for any keen ocean swimmer. \n  \nIn 2019\, the festival offers a range of distances for every ability\, from junior events to a five kilometre marathon distance where seasoned swimmers can push their limits. \n  \nJoin World Series Swims Ambassador Michael Klim and special guests for a huge weekend of sun\, surf and swims in Noosa. \n  \nSaturday Events: Junior Giants (300 metres and 1000 metres)\, one kilometre\, two kilometres and three kilometres. Outdoor Cinema. \n  \nSunday Events: Five kilometre Grand Prix\, one and a half kilometre Social Swim. \n  \nEntry Costs: Adult $39.50 – $59.50 Early Bird Entries open on 1st October 2018. Several price-breaks will occur before event day. \n  \nVenue:       Noosa Surf Lifesaving Club\, Noosa Heads. \nPhone:      1300 456 592 \nEmail:        info@worldseriesswims.com.au \nWeb:         http://worldseriesswims.com.au/noosa-summer-swim/ \n
URL:https://seniorsenquiryline.com.au/event/noosa-summer-swim-festival-2/
CATEGORIES:Sunshine Coast
END:VEVENT
BEGIN:VEVENT
DTSTART;TZID=Australia/Brisbane:20190202T090000
DTEND;TZID=Australia/Brisbane:20190202T110000
DTSTAMP:20190227T230849
CREATED:20190122T114546Z
LAST-MODIFIED:20190122T114546Z
UID:12805-1549062000-1549069200@seniorsenquiryline.com.au
SUMMARY:World Wetlands Day Walk - Boondall
DESCRIPTION:2nd  Feb     9:00am – 11:00am \n  \nCelebrate World Wetlands Day with an informative guided walk around the gentle 2 km Billai Dhagun Circuit. Learn the international significance of the shorebirds to our world-renowned Boondall Wetlands. Discover the traditional uses of plants and other wetlands resources. After the walk\, enjoy other trails close by\, relax in the picnic area or visit the environment centre. No bookings required. Volunteer guides lead walks for groups of up to 20 people. \n  \nRequirements: Children must be accompanied by an adult. Wear a wide-brimmed hat\, secure\, fully enclosed walking shoes\, sun-smart clothing\, sunscreen and insect repellent. Please bring drinking water and a snack or picnic lunch as there are no food outlets on site. \n  \nMeeting Point: Boondall Wetlands Environment Centre 31 Paperbark Drive\, Boondall QLD 4034. UBD Map Reference 111 C14. \n  \nVenue:       Boondall Wetlands Environment Centre\, 31 Paperbark Drive (entry via Stanworth Rd)\, Boondall \n
URL:https://seniorsenquiryline.com.au/event/world-wetlands-day-walk-boondall/
CATEGORIES:Brisbane & West Moreton
END:VEVENT
BEGIN:VEVENT
DTSTART;TZID=Australia/Brisbane:20190202T090000
DTEND;TZID=Australia/Brisbane:20190202T100000
DTSTAMP:20190227T230849
CREATED:20190122T130149Z
LAST-MODIFIED:20190122T130149Z
UID:12844-1549062000-1549065600@seniorsenquiryline.com.au
SUMMARY:Free Active Living Aqua Aerobics – Cairns
DESCRIPTION:2 Feb 2019            9:00 –  10:00am \n  \nAquatic exercise is a low impact\, effective and fun way to get fit\, burn calories\, strengthen joints and bones and reduce stress. Aqua Aerobics increases general well-being with little or no impact and you don’t even have to be able to swim! \n  \nThis is a Free Event. \n  \nVenue:       Cairns Esplanade Lagoon\, Cairns Esplanade\, Cairns. \nWeb:         http://www.cairnsevents.com/free-active-living-aqua-aerobics.928/# \n
URL:https://seniorsenquiryline.com.au/event/free-active-living-aqua-aerobics-cairns/
CATEGORIES:North QLD
END:VEVENT
END:VCALENDAR